BEGIN:VCALENDAR
VERSION:2.0
PRODID:-//Forschen in Gotha - ECPv5.14.1//NONSGML v1.0//EN
CALSCALE:GREGORIAN
METHOD:PUBLISH
X-WR-CALNAME:Forschen in Gotha
X-ORIGINAL-URL:https://www.gotha3.de/forschungsblog
X-WR-CALDESC:Veranstaltungen für Forschen in Gotha
BEGIN:VTIMEZONE
TZID:Europe/Berlin
BEGIN:DAYLIGHT
TZOFFSETFROM:+0100
TZOFFSETTO:+0200
TZNAME:CEST
DTSTART:20190331T010000
END:DAYLIGHT
BEGIN:STANDARD
TZOFFSETFROM:+0200
TZOFFSETTO:+0100
TZNAME:CET
DTSTART:20191027T010000
END:STANDARD
END:VTIMEZONE
BEGIN:VEVENT
DTSTART;TZID=Europe/Berlin:20190528T171500
DTEND;TZID=Europe/Berlin:20190528T184500
DTSTAMP:20260423T225732
CREATED:20181218T091756Z
LAST-MODIFIED:20190506T080602Z
UID:3572-1559063700-1559069100@www.gotha3.de
SUMMARY:Entfesselte Natur. Das Bild der Katastrophe im 18. und 19. Jahrhundert
DESCRIPTION:Vortrag von Dr. Markus Bertsch (Hamburg) im Rahmen der Vortragsreihe „Naturschönheiten/Natural Beauties“. \nNähere Information zu dieser Veranstaltung finden Sie im Blog.
URL:https://www.gotha3.de/forschungsblog/event/entfesselte-natur-das-bild-der-katastrophe-im-18-und-19-jahrhundert
CATEGORIES:Vortrag
END:VEVENT
END:VCALENDAR