BEGIN:VCALENDAR
VERSION:2.0
PRODID:-//Forschen in Gotha - ECPv5.14.1//NONSGML v1.0//EN
CALSCALE:GREGORIAN
METHOD:PUBLISH
X-WR-CALNAME:Forschen in Gotha
X-ORIGINAL-URL:https://www.gotha3.de/forschungsblog
X-WR-CALDESC:Veranstaltungen für Forschen in Gotha
BEGIN:VTIMEZONE
TZID:Europe/Berlin
BEGIN:DAYLIGHT
TZOFFSETFROM:+0100
TZOFFSETTO:+0200
TZNAME:CEST
DTSTART:20190331T010000
END:DAYLIGHT
BEGIN:STANDARD
TZOFFSETFROM:+0200
TZOFFSETTO:+0100
TZNAME:CET
DTSTART:20191027T010000
END:STANDARD
END:VTIMEZONE
BEGIN:VEVENT
DTSTART;VALUE=DATE:20190613
DTEND;VALUE=DATE:20190616
DTSTAMP:20260423T225940
CREATED:20181218T092210Z
LAST-MODIFIED:20190430T063208Z
UID:3576-1560384000-1560643199@www.gotha3.de
SUMMARY:Ulrich Jasper Seetzens Reise nach Vorderasien. Neue Ansätze der Reiseforschung
DESCRIPTION:Internationale Tagung und Alumni-Treffen der HES-Stipendiat/innen\nLeitung: Dr. Natalia Bachour (Zürich)\, PD Dr. Julia Schmidt-Funke (Gotha)\, Prof. Dr. Iris Schröder (Erfurt/Gotha) \nNähere Informationen zu dieser Veranstaltung finden Sie im Blog.
URL:https://www.gotha3.de/forschungsblog/event/perspektiven-der-seetzen-forschung
LOCATION:Landschaftshaus\, Vortragssaal\, Schloßberg 2\, Gotha\, 99867
CATEGORIES:Tagung
END:VEVENT
END:VCALENDAR