BEGIN:VCALENDAR
VERSION:2.0
PRODID:-//Forschen in Gotha - ECPv5.14.1//NONSGML v1.0//EN
CALSCALE:GREGORIAN
METHOD:PUBLISH
X-WR-CALNAME:Forschen in Gotha
X-ORIGINAL-URL:https://www.gotha3.de/forschungsblog
X-WR-CALDESC:Veranstaltungen für Forschen in Gotha
BEGIN:VTIMEZONE
TZID:Europe/Berlin
BEGIN:DAYLIGHT
TZOFFSETFROM:+0100
TZOFFSETTO:+0200
TZNAME:CEST
DTSTART:20180325T010000
END:DAYLIGHT
BEGIN:STANDARD
TZOFFSETFROM:+0200
TZOFFSETTO:+0100
TZNAME:CET
DTSTART:20181028T010000
END:STANDARD
END:VTIMEZONE
BEGIN:VEVENT
DTSTART;TZID=Europe/Berlin:20181128T181500
DTEND;TZID=Europe/Berlin:20181128T194500
DTSTAMP:20260424T223718
CREATED:20180814T140357Z
LAST-MODIFIED:20180903T083017Z
UID:3415-1543428900-1543434300@www.gotha3.de
SUMMARY:Mehr als eine herzogliche Residenz. Die Geschichte Gothas als erste moderne Stadtgeschichte Thüringens
DESCRIPTION:Vortrag von Dr. Alexander Krünes zum Projekt einer Stadtgeschichte Gothas.
URL:https://www.gotha3.de/forschungsblog/event/stadtgeschichte-gothas
CATEGORIES:Vortrag
END:VEVENT
END:VCALENDAR