BEGIN:VCALENDAR
VERSION:2.0
PRODID:-//Forschen in Gotha - ECPv5.14.1//NONSGML v1.0//EN
CALSCALE:GREGORIAN
METHOD:PUBLISH
X-WR-CALNAME:Forschen in Gotha
X-ORIGINAL-URL:https://www.gotha3.de/forschungsblog
X-WR-CALDESC:Veranstaltungen für Forschen in Gotha
BEGIN:VTIMEZONE
TZID:Europe/Berlin
BEGIN:DAYLIGHT
TZOFFSETFROM:+0100
TZOFFSETTO:+0200
TZNAME:CEST
DTSTART:20190331T010000
END:DAYLIGHT
BEGIN:STANDARD
TZOFFSETFROM:+0200
TZOFFSETTO:+0100
TZNAME:CET
DTSTART:20191027T010000
END:STANDARD
END:VTIMEZONE
BEGIN:VEVENT
DTSTART;TZID=Europe/Berlin:20190606T140000
DTEND;TZID=Europe/Berlin:20190606T160000
DTSTAMP:20260423T212717
CREATED:20190604T082637Z
LAST-MODIFIED:20190604T082724Z
UID:3946-1559829600-1559836800@www.gotha3.de
SUMMARY:Stipendiat*innenkolloquium von Dr. Alexander Meckelburg am 06. Juni
DESCRIPTION:Am Donnerstag\, den 06. Juni 2019 spricht Dr. Alexander Meckelburg (Hamburg) im Rahmen von „Mappings: Raum- und neue Kartographiegeschichte“ über „Local knowledge and foreign map-making practices: The Ethiopian-Sudanese borderlands on selected maps in the Forschungsbibliothek Gotha“. Veranstaltungsort ist der Besprechungsraum des Forschungszentrums. Alle Interessierten sind herzlich eingeladen!
URL:https://www.gotha3.de/forschungsblog/event/stipendiatinnenkolloquium-von-dr-alexander-meckelburg
LOCATION:Landschaftshaus\, Besprechungsraum\, Schloßberg 2\, Gotha\, Thüringen\, 99867\, Deutschland
CATEGORIES:Vortrag
END:VEVENT
END:VCALENDAR