BEGIN:VCALENDAR
VERSION:2.0
PRODID:-//Forschen in Gotha - ECPv5.14.1//NONSGML v1.0//EN
CALSCALE:GREGORIAN
METHOD:PUBLISH
X-WR-CALNAME:Forschen in Gotha
X-ORIGINAL-URL:https://www.gotha3.de/forschungsblog
X-WR-CALDESC:Veranstaltungen für Forschen in Gotha
BEGIN:VTIMEZONE
TZID:Europe/Berlin
BEGIN:DAYLIGHT
TZOFFSETFROM:+0100
TZOFFSETTO:+0200
TZNAME:CEST
DTSTART:20190331T010000
END:DAYLIGHT
BEGIN:STANDARD
TZOFFSETFROM:+0200
TZOFFSETTO:+0100
TZNAME:CET
DTSTART:20191027T010000
END:STANDARD
END:VTIMEZONE
BEGIN:VEVENT
DTSTART;TZID=Europe/Berlin:20190702T150000
DTEND;TZID=Europe/Berlin:20190702T170000
DTSTAMP:20260424T032649
CREATED:20190627T113020Z
LAST-MODIFIED:20190627T113020Z
UID:4023-1562079600-1562086800@www.gotha3.de
SUMMARY:Stipendiat*innenkolloquium von Shih-Wei Hsu und Kai Schwahn
DESCRIPTION:
URL:https://www.gotha3.de/forschungsblog/event/stipendiatinnenkolloquium-von-shih-wei-hsu-und-kai-schwahn-2
LOCATION:Landschaftshaus\, Vortragssaal\, Schloßberg 2\, Gotha\, 99867
CATEGORIES:Vortrag
END:VEVENT
END:VCALENDAR