BEGIN:VCALENDAR
VERSION:2.0
PRODID:-//Forschen in Gotha - ECPv5.14.1//NONSGML v1.0//EN
CALSCALE:GREGORIAN
METHOD:PUBLISH
X-WR-CALNAME:Forschen in Gotha
X-ORIGINAL-URL:https://www.gotha3.de/forschungsblog
X-WR-CALDESC:Veranstaltungen für Forschen in Gotha
BEGIN:VTIMEZONE
TZID:Europe/Berlin
BEGIN:DAYLIGHT
TZOFFSETFROM:+0100
TZOFFSETTO:+0200
TZNAME:CEST
DTSTART:20180325T010000
END:DAYLIGHT
BEGIN:STANDARD
TZOFFSETFROM:+0200
TZOFFSETTO:+0100
TZNAME:CET
DTSTART:20181028T010000
END:STANDARD
END:VTIMEZONE
BEGIN:VEVENT
DTSTART;TZID=Europe/Berlin:20181025T181500
DTEND;TZID=Europe/Berlin:20181025T194500
DTSTAMP:20260424T175033
CREATED:20180814T074946Z
LAST-MODIFIED:20181026T073832Z
UID:3407-1540491300-1540496700@www.gotha3.de
SUMMARY:At the Edges of Empires. Maps and territorial Constructions in the Northern Indochinese Peninsula\, 1885-1914
DESCRIPTION:Achtung\, zu beachtende Änderung! \nDer Vortrag von Professor Dr. Kapil Raj (Paris) „The Arrival of the First Thedolite in India\, the Birth Pangs of Its Use and Subsequent Triangulation Techniques in the 19th Century“ im Rahmen der 9. Gothaer Kartenwochen „Meridian Gotha. Zur Triangulation und Vermessung Thüringens um 1800“ findet krankheitsbedingt nicht statt. \nWir freuen uns jedoch alternativ Marie de Rugy (Cambridge) gewonnen zu haben. Sie wird  statt Kapil Raj über „At the Edges of Empires. Maps and territorial Constructions in the Northern Indochinese Peninsula\, 1885-1914“ sprechen. Dr. Marie de Rugy (University of Cambridge) veröffentliche unter diesem Titel ihre aktuellen Forschungsergebnisse über Karten und territoriale Konstruktionen an den Grenzen des britischen und französischen Kolonialreiches im Norden der indochinesischen Halbinsel am Ende des 19. und Anfang des 20. Jahrhunderts. Der Vortrag  wird auf Englisch gehalten. \nVortrag von Dr. Marie Rugy (University of Cambridge) im Rahmen der 9. Gothaer Kartenwochen „Meridian Gotha. Zur Triangulation und Vermessung Thüringens um 1800“. \nBereits um 17 Uhr findet im Spiegelsaal die letzte öffentliche Führung durch die aktuelle Ausstellung „Meridian Gotha“ durch den Kurator Dr. des. Matthias Rekow (Gotha) statt. Der Eintritt zu beiden Veranstaltungen ist frei. \nWeitere Informationen / Kontakt:\nProf. Dr. Iris Schröder\nTel.: +49 361 737-1703 (Gotha)\,\n+49 361 737-4431 (Erfurt)\nE-Mail: iris.schroeder@uni-erfurt.de \n 
URL:https://www.gotha3.de/forschungsblog/event/the-arrival-of-the-first-thedolite-in-india-the-birth-pangs-of-its-use-and-subsequent-triangulation-techniques-in-the-19th-century
LOCATION:Schloss Friedenstein\, Spiegelsaal\, Schloss Friedenstein\, Schlossplatz 1\, Gotha\, 99867
CATEGORIES:Vortrag
END:VEVENT
END:VCALENDAR