BEGIN:VCALENDAR
VERSION:2.0
PRODID:-//Forschen in Gotha - ECPv5.14.1//NONSGML v1.0//EN
CALSCALE:GREGORIAN
METHOD:PUBLISH
X-WR-CALNAME:Forschen in Gotha
X-ORIGINAL-URL:https://www.gotha3.de/forschungsblog
X-WR-CALDESC:Veranstaltungen für Forschen in Gotha
BEGIN:VTIMEZONE
TZID:Europe/Berlin
BEGIN:DAYLIGHT
TZOFFSETFROM:+0100
TZOFFSETTO:+0200
TZNAME:CEST
DTSTART:20190331T010000
END:DAYLIGHT
BEGIN:STANDARD
TZOFFSETFROM:+0200
TZOFFSETTO:+0100
TZNAME:CET
DTSTART:20191027T010000
END:STANDARD
END:VTIMEZONE
BEGIN:VEVENT
DTSTART;TZID=Europe/Berlin:20190523T170000
DTEND;TZID=Europe/Berlin:20190523T190000
DTSTAMP:20260424T015217
CREATED:20181218T091401Z
LAST-MODIFIED:20190506T080530Z
UID:3570-1558630800-1558638000@www.gotha3.de
SUMMARY:Ordnung durch Bewegung an Gothas Peripherie. Das pomologische Kabinett von Sickler & Bertuch und die entomologische Sammlung des Forstrats Kellner als Räume des Wissens
DESCRIPTION:Vortrag von PD Dr. Sybilla Nikolow (Berlin) im Rahmen der Vortragsreihe\n„Naturschönheiten. Verbindungen von Kunst und Natur“ \nNähere Information zu dieser Veranstaltung finden Sie im Blog.
URL:https://www.gotha3.de/forschungsblog/event/vortrag-von-pd-dr-sybilla-nikolow-berlin
CATEGORIES:Vortrag
END:VEVENT
END:VCALENDAR